BEGIN:VCALENDAR
VERSION:2.0
PRODID:-//YMCA of Centre County - ECPv6.15.17.1//NONSGML v1.0//EN
CALSCALE:GREGORIAN
METHOD:PUBLISH
X-ORIGINAL-URL:https://www.ymcaofcentrecounty.org
X-WR-CALDESC:Events for YMCA of Centre County
REFRESH-INTERVAL;VALUE=DURATION:PT1H
X-Robots-Tag:noindex
X-PUBLISHED-TTL:PT1H
BEGIN:VTIMEZONE
TZID:America/New_York
BEGIN:DAYLIGHT
TZOFFSETFROM:-0500
TZOFFSETTO:-0400
TZNAME:EDT
DTSTART:20250309T070000
END:DAYLIGHT
BEGIN:STANDARD
TZOFFSETFROM:-0400
TZOFFSETTO:-0500
TZNAME:EST
DTSTART:20251102T060000
END:STANDARD
BEGIN:DAYLIGHT
TZOFFSETFROM:-0500
TZOFFSETTO:-0400
TZNAME:EDT
DTSTART:20260308T070000
END:DAYLIGHT
BEGIN:STANDARD
TZOFFSETFROM:-0400
TZOFFSETTO:-0500
TZNAME:EST
DTSTART:20261101T060000
END:STANDARD
BEGIN:DAYLIGHT
TZOFFSETFROM:-0500
TZOFFSETTO:-0400
TZNAME:EDT
DTSTART:20270314T070000
END:DAYLIGHT
BEGIN:STANDARD
TZOFFSETFROM:-0400
TZOFFSETTO:-0500
TZNAME:EST
DTSTART:20271107T060000
END:STANDARD
END:VTIMEZONE
BEGIN:VEVENT
DTSTART;TZID=America/New_York:20260131T081500
DTEND;TZID=America/New_York:20260131T100000
DTSTAMP:20260419T100820
CREATED:20251218T194138Z
LAST-MODIFIED:20251218T194138Z
UID:28041-1769847300-1769853600@www.ymcaofcentrecounty.org
SUMMARY:Intermediate Pickleball Clinic - State College
DESCRIPTION:Members: $20\nNon-Members: $35 \nCLICK HERE TO REGISTER NOW \nTake your game to the next level! Our indoor intermediate clinic at the State College YMCA is perfect for players who know the basics and want to improve their technique\, footwork\, and strategy. Sharpen your skills\, enjoy friendly competition\, and boost your confidence on the court. \n 
URL:https://www.ymcaofcentrecounty.org/event/intermediate-pickleball-clinic-state-college-4/
CATEGORIES:State College Events,YMCA Events
END:VEVENT
END:VCALENDAR