BEGIN:VCALENDAR
VERSION:2.0
PRODID:-//YMCA of Centre County - ECPv6.15.17.1//NONSGML v1.0//EN
CALSCALE:GREGORIAN
METHOD:PUBLISH
X-ORIGINAL-URL:https://www.ymcaofcentrecounty.org
X-WR-CALDESC:Events for YMCA of Centre County
REFRESH-INTERVAL;VALUE=DURATION:PT1H
X-Robots-Tag:noindex
X-PUBLISHED-TTL:PT1H
BEGIN:VTIMEZONE
TZID:America/New_York
BEGIN:DAYLIGHT
TZOFFSETFROM:-0500
TZOFFSETTO:-0400
TZNAME:EDT
DTSTART:20250309T070000
END:DAYLIGHT
BEGIN:STANDARD
TZOFFSETFROM:-0400
TZOFFSETTO:-0500
TZNAME:EST
DTSTART:20251102T060000
END:STANDARD
BEGIN:DAYLIGHT
TZOFFSETFROM:-0500
TZOFFSETTO:-0400
TZNAME:EDT
DTSTART:20260308T070000
END:DAYLIGHT
BEGIN:STANDARD
TZOFFSETFROM:-0400
TZOFFSETTO:-0500
TZNAME:EST
DTSTART:20261101T060000
END:STANDARD
BEGIN:DAYLIGHT
TZOFFSETFROM:-0500
TZOFFSETTO:-0400
TZNAME:EDT
DTSTART:20270314T070000
END:DAYLIGHT
BEGIN:STANDARD
TZOFFSETFROM:-0400
TZOFFSETTO:-0500
TZNAME:EST
DTSTART:20271107T060000
END:STANDARD
END:VTIMEZONE
BEGIN:VEVENT
DTSTART;TZID=America/New_York:20260206T180000
DTEND;TZID=America/New_York:20260206T193000
DTSTAMP:20260423T043027
CREATED:20260119T215229Z
LAST-MODIFIED:20260119T215247Z
UID:28160-1770400800-1770406200@www.ymcaofcentrecounty.org
SUMMARY:Family Trivia Night - State College
DESCRIPTION:CLICK HERE TO REGISTER NOW \nEnjoy free pizza and some family friendly competition!\n\nPut your heads together for four rounds of family-friendly trivia\, with 10 questions per round and something for everyone — from second graders to senior citizens. Every member of the family can contribute! Pizza will be provided\, and additional snacks and drinks will be available for purchase from the YMCA Teen Leaders Club.\nPhones won’t be allowed for answering questions — you’ll have to talk\, laugh\, and work together! It’s cheaper and more interactive than a movie\, and a whole lot more fun. Come find out who the real trivia champ in your family is!\n\nFree for Y members and $20/family for non-members. Register in advance to reserve your table.
URL:https://www.ymcaofcentrecounty.org/event/family-trivia-night-state-college/
CATEGORIES:State College Events,YMCA Events
END:VEVENT
END:VCALENDAR