BEGIN:VCALENDAR
VERSION:2.0
PRODID:-//YMCA of Centre County - ECPv6.15.17.1//NONSGML v1.0//EN
CALSCALE:GREGORIAN
METHOD:PUBLISH
X-ORIGINAL-URL:https://www.ymcaofcentrecounty.org
X-WR-CALDESC:Events for YMCA of Centre County
REFRESH-INTERVAL;VALUE=DURATION:PT1H
X-Robots-Tag:noindex
X-PUBLISHED-TTL:PT1H
BEGIN:VTIMEZONE
TZID:America/New_York
BEGIN:DAYLIGHT
TZOFFSETFROM:-0500
TZOFFSETTO:-0400
TZNAME:EDT
DTSTART:20250309T070000
END:DAYLIGHT
BEGIN:STANDARD
TZOFFSETFROM:-0400
TZOFFSETTO:-0500
TZNAME:EST
DTSTART:20251102T060000
END:STANDARD
BEGIN:DAYLIGHT
TZOFFSETFROM:-0500
TZOFFSETTO:-0400
TZNAME:EDT
DTSTART:20260308T070000
END:DAYLIGHT
BEGIN:STANDARD
TZOFFSETFROM:-0400
TZOFFSETTO:-0500
TZNAME:EST
DTSTART:20261101T060000
END:STANDARD
BEGIN:DAYLIGHT
TZOFFSETFROM:-0500
TZOFFSETTO:-0400
TZNAME:EDT
DTSTART:20270314T070000
END:DAYLIGHT
BEGIN:STANDARD
TZOFFSETFROM:-0400
TZOFFSETTO:-0500
TZNAME:EST
DTSTART:20271107T060000
END:STANDARD
END:VTIMEZONE
BEGIN:VEVENT
DTSTART;TZID=America/New_York:20260506T110000
DTEND;TZID=America/New_York:20260506T163000
DTSTAMP:20260425T113725
CREATED:20260423T150455Z
LAST-MODIFIED:20260423T150455Z
UID:28767-1778065200-1778085000@www.ymcaofcentrecounty.org
SUMMARY:Blood Drive - State College
DESCRIPTION:Help ensure blood is available for those in need. The State College YMCA will host a blood drive on Wednesday\, May 6 from 11 AM – 4:30 PM. Schedule an appointment by calling 1-800-RED CROSS or visiting RedCrossBlood.org and enter SCYMCA to schedule an appointment.\n\nSave Time With RapidPass\nStreamline your donation experience and save up to 15 minutes by visiting RedCross.org/RapidPass to complete your pre-donation reading and health history questions on the day of your appointment.\n\nIncentive\nThis May\, we’re encouraging donors to shine bright for patients in need by donating blood\, platelets\, or AB Elite plasma! All who come to give May 1-17\, 2026\, will receive a $20 Amazon Gift Card by email\, thanks to Amazon.
URL:https://www.ymcaofcentrecounty.org/event/blood-drive-state-college-5/
CATEGORIES:State College Events,YMCA Events
END:VEVENT
BEGIN:VEVENT
DTSTART;TZID=America/New_York:20260509T143000
DTEND;TZID=America/New_York:20260509T173000
DTSTAMP:20260425T113725
CREATED:20260325T131315Z
LAST-MODIFIED:20260325T131315Z
UID:28605-1778337000-1778347800@www.ymcaofcentrecounty.org
SUMMARY:Kids Day - State College
DESCRIPTION:CLICK HERE TO REGISTER NOW \nJoin us for an afternoon of fun\, games\, and creativity\, including a special guided painting session led by a guest artist. Registration opens April 1. Cost is $20 for members and $25 for non-members. Spots are limited. \n 
URL:https://www.ymcaofcentrecounty.org/event/kids-day-state-college-2/
CATEGORIES:State College Events,YMCA Events
END:VEVENT
BEGIN:VEVENT
DTSTART;TZID=America/New_York:20260516T140000
DTEND;TZID=America/New_York:20260516T170000
DTSTAMP:20260425T113725
CREATED:20260417T191237Z
LAST-MODIFIED:20260417T191308Z
UID:28721-1778940000-1778950800@www.ymcaofcentrecounty.org
SUMMARY:Summer Splash Down - State College
DESCRIPTION:CLICK HERE TO REGISTER NOW \n2:00 PM – 3:25 PM or 3:30 PM – 5:00 PM \nMembers: $10   Non-Members: $15 \nMake a splash and kick off summer at the State College YMCA’s Summer Splash Down! Join us for an afternoon of fun in the pool\, including our exciting Wibit in-water obstacle course. Whether you choose the early session or the later time\, it’s the perfect way for kids to get active and cool off before summer begins. Proceeds benefit the SCAY Aqualions Swim Team. \nEVENT DETAILS: \n\nAges 5–15 welcome\nChildren under 12 must have a parent present with them\nAll participants will complete a swim test\nFlotation devices provided for non-swimmers\nPizza\, snacks\, and drinks available for an additional $10 fee\n\n 
URL:https://www.ymcaofcentrecounty.org/event/summer-splash-down-state-college/
CATEGORIES:State College Events,YMCA Events
END:VEVENT
BEGIN:VEVENT
DTSTART;TZID=America/New_York:20260516T160000
DTEND;TZID=America/New_York:20260516T170000
DTSTAMP:20260425T113725
CREATED:20260413T195417Z
LAST-MODIFIED:20260413T195702Z
UID:28710-1778947200-1778950800@www.ymcaofcentrecounty.org
SUMMARY:Family Yoga - State College
DESCRIPTION:Members: $10/FamilyNon-Members: $20/Family\nCLICK HERE TO REGISTER NOW\n\nBring the whole family together for a fun and relaxing yoga experience! This welcoming class is designed for caregivers and children (ages 5 & up) to move\, breathe\, and connect. No prior experience is needed—just come ready to have fun\, relax\, and spend meaningful time together.\n\nWhat to expect:\n\nSimple yoga poses and playful movement\nMoments of rest and mindfulness\nA joyful\, supportive environment for the whole family\n\nClass Details:\n\nDuration: 60 minutes\nLocation: Small Gym\nAt least one adult per family is required
URL:https://www.ymcaofcentrecounty.org/event/family-yoga-state-college/
CATEGORIES:State College Events,YMCA Events
END:VEVENT
BEGIN:VEVENT
DTSTART;TZID=America/New_York:20260517T140000
DTEND;TZID=America/New_York:20260517T155000
DTSTAMP:20260425T113725
CREATED:20260420T162320Z
LAST-MODIFIED:20260420T162355Z
UID:28731-1779026400-1779033000@www.ymcaofcentrecounty.org
SUMMARY:Line Dancing - State College
DESCRIPTION:Join us for this fun line dancing class at the State College YMCA! Snacks will be provided for participants. \nCLICK HERE TO REGISTER NOW
URL:https://www.ymcaofcentrecounty.org/event/28731/
CATEGORIES:State College Events,YMCA Events
END:VEVENT
BEGIN:VEVENT
DTSTART;TZID=America/New_York:20260521T111500
DTEND;TZID=America/New_York:20260521T124500
DTSTAMP:20260425T113725
CREATED:20260422T184017Z
LAST-MODIFIED:20260422T190239Z
UID:28760-1779362100-1779367500@www.ymcaofcentrecounty.org
SUMMARY:Senior Luncheon - State College
DESCRIPTION:CLICK HERE TO REGISTER NOW \nJoin us on May 21 for a fun and informative Senior Luncheon featuring special guest speaker Jessica Smith from Encompass Health. She will present Travel Fit at Any Age\, sharing practical tips to help you stay healthy\, safe\, and energized while traveling. \nLearn simple strategies to reduce jet lag\, stay hydrated\, and keep your body moving on the go. The presentation will also cover ways to help prevent blood clots\, improve breathing for better pulmonary health\, and recognize important signs of stroke as part of brain injury awareness. \nAfter the presentation\, enjoy a delicious BBQ lunch and time to relax and connect with friends. Don’t miss this great opportunity to learn\, socialize\, and prepare for healthier travels at any age! \n 
URL:https://www.ymcaofcentrecounty.org/event/senior-luncheon-state-college-12/
CATEGORIES:State College Events,YMCA Events
END:VEVENT
BEGIN:VEVENT
DTSTART;TZID=America/New_York:20260527T090000
DTEND;TZID=America/New_York:20260527T120000
DTSTAMP:20260425T113725
CREATED:20260420T194107Z
LAST-MODIFIED:20260420T194107Z
UID:28744-1779872400-1779883200@www.ymcaofcentrecounty.org
SUMMARY:Coffee Talk - State College
DESCRIPTION:Enjoy coffee and conversation at the State College YMCA!
URL:https://www.ymcaofcentrecounty.org/event/coffee-talk-state-college-12/
CATEGORIES:State College Events,YMCA Events
END:VEVENT
BEGIN:VEVENT
DTSTART;TZID=America/New_York:20260530T123000
DTEND;TZID=America/New_York:20260530T140000
DTSTAMP:20260425T113725
CREATED:20260414T140814Z
LAST-MODIFIED:20260414T140910Z
UID:28713-1780144200-1780149600@www.ymcaofcentrecounty.org
SUMMARY:Teen Leaders Informational Meeting - State College
DESCRIPTION:CLICK HERE TO REGISTER NOW \nAre you interested in leadership\, service\, and making a difference in the community? Join us for an open informational meeting to learn more about the Teen Leaders Club at the State College YMCA! \nThis meeting is for parents and students in grades 6–12 who want to discover how to get involved. We’ll cover what the club is all about\, what teens can expect\, and how to join. Bring your questions and your curiosity—this is the perfect opportunity to see what Teen Leaders is all about! Registration is required. 
URL:https://www.ymcaofcentrecounty.org/event/teen-leaders-informational-meeting-state-college-4/
CATEGORIES:State College Events,YMCA Events
END:VEVENT
BEGIN:VEVENT
DTSTART;TZID=America/New_York:20260628T140000
DTEND;TZID=America/New_York:20260628T155000
DTSTAMP:20260425T113725
CREATED:20260423T145218Z
LAST-MODIFIED:20260423T145218Z
UID:28764-1782655200-1782661800@www.ymcaofcentrecounty.org
SUMMARY:Line Dancing - State College
DESCRIPTION:Join us for this fun line dancing class at the State College YMCA! Snacks will be provided for participants.\n\n\n\nCLICK HERE TO REGISTER NOW
URL:https://www.ymcaofcentrecounty.org/event/line-dancing-state-college-16/
CATEGORIES:State College Events,YMCA Events
END:VEVENT
END:VCALENDAR