BEGIN:VCALENDAR
VERSION:2.0
PRODID:-//YMCA of Centre County - ECPv6.15.17.1//NONSGML v1.0//EN
CALSCALE:GREGORIAN
METHOD:PUBLISH
X-WR-CALNAME:YMCA of Centre County
X-ORIGINAL-URL:https://www.ymcaofcentrecounty.org
X-WR-CALDESC:Events for YMCA of Centre County
REFRESH-INTERVAL;VALUE=DURATION:PT1H
X-Robots-Tag:noindex
X-PUBLISHED-TTL:PT1H
BEGIN:VTIMEZONE
TZID:America/New_York
BEGIN:DAYLIGHT
TZOFFSETFROM:-0500
TZOFFSETTO:-0400
TZNAME:EDT
DTSTART:20240310T070000
END:DAYLIGHT
BEGIN:STANDARD
TZOFFSETFROM:-0400
TZOFFSETTO:-0500
TZNAME:EST
DTSTART:20241103T060000
END:STANDARD
BEGIN:DAYLIGHT
TZOFFSETFROM:-0500
TZOFFSETTO:-0400
TZNAME:EDT
DTSTART:20250309T070000
END:DAYLIGHT
BEGIN:STANDARD
TZOFFSETFROM:-0400
TZOFFSETTO:-0500
TZNAME:EST
DTSTART:20251102T060000
END:STANDARD
BEGIN:DAYLIGHT
TZOFFSETFROM:-0500
TZOFFSETTO:-0400
TZNAME:EDT
DTSTART:20260308T070000
END:DAYLIGHT
BEGIN:STANDARD
TZOFFSETFROM:-0400
TZOFFSETTO:-0500
TZNAME:EST
DTSTART:20261101T060000
END:STANDARD
END:VTIMEZONE
BEGIN:VEVENT
DTSTART;TZID=America/New_York:20250117T173000
DTEND;TZID=America/New_York:20250117T200000
DTSTAMP:20260421T184719
CREATED:20250106T185136Z
LAST-MODIFIED:20250107T201320Z
UID:25853-1737135000-1737144000@www.ymcaofcentrecounty.org
SUMMARY:Kids Night Out - Penns Valley
DESCRIPTION:Ages: 5-12 \nPrice: Members: $10; Non-members: $15 \nParents can enjoy a night to themselves while their kids have some fun at the Y! This event is for kids ages 5 to 12. Participants will enjoy  a Winter craft and movie\, hot dogs\, drinks\, and chips. \n 
URL:https://www.ymcaofcentrecounty.org/event/kids-night-out-penns-valley-3/
CATEGORIES:Penns Valley Events,YMCA Events
END:VEVENT
BEGIN:VEVENT
DTSTART;TZID=America/New_York:20250117T180000
DTEND;TZID=America/New_York:20250117T200000
DTSTAMP:20260421T184719
CREATED:20250106T184857Z
LAST-MODIFIED:20250106T184857Z
UID:26029-1737136800-1737144000@www.ymcaofcentrecounty.org
SUMMARY:SPINema Penns Valley
DESCRIPTION:CLICK HERE TO REGISTER NOW \nHe’s a stuntman\, and like everyone in the stunt community\, he gets blown up\, shot\, crashed\, thrown through windows and dropped from the highest of heights\, all for our entertainment. And now\, fresh off an almost career-ending accident\, this working-class hero must track down a missing movie star\, solve a conspiracy and try to win back the love of his life while still doing his day job. What could possibly go right? \nRuntime: 2h 6m \nRated: PG-13 \nRelease Date: 5/3/2024 \nYMCA Members: $10 \nNon-Members: $25 \n 
URL:https://www.ymcaofcentrecounty.org/event/spinema-penns-valley/
CATEGORIES:Penns Valley Events,YMCA Events
END:VEVENT
BEGIN:VEVENT
DTSTART;TZID=America/New_York:20250130T110000
DTEND;TZID=America/New_York:20250130T163000
DTSTAMP:20260421T184719
CREATED:20240903T152535Z
LAST-MODIFIED:20250107T153026Z
UID:25406-1738234800-1738254600@www.ymcaofcentrecounty.org
SUMMARY:Blood Drive - State College
DESCRIPTION:Donate blood and help save lives! Our State College branch will host a blood drive on Thursday\, January 30 from 11 AM – 4:30 PM. Please call 1-800-RED CROSS or visit redcrossblood.org and enter SCYMCA to schedule an appointment.\n\nYou can streamline your donation experience by visiting RedCrossBlood.org/RapidPass to complete pre-donation screening questions the day of your appointment.
URL:https://www.ymcaofcentrecounty.org/event/blood-drive-state-college/
CATEGORIES:State College Events,YMCA Events
END:VEVENT
BEGIN:VEVENT
DTSTART;TZID=America/New_York:20250131T090000
DTEND;TZID=America/New_York:20250131T100000
DTSTAMP:20260421T184719
CREATED:20250122T175724Z
LAST-MODIFIED:20250122T175724Z
UID:26242-1738314000-1738317600@www.ymcaofcentrecounty.org
SUMMARY:Strategies for Maintaining Your Independence - Bellefonte
DESCRIPTION:Join us at the Bellefonte YMCA community room to learn about strategies to maintain your independent living as well as have some fresh fruit and other snacks.
URL:https://www.ymcaofcentrecounty.org/event/strategies-for-maintaining-your-independence-bellefonte/
CATEGORIES:Bellefonte Events,YMCA Events
END:VEVENT
END:VCALENDAR