BEGIN:VCALENDAR
VERSION:2.0
PRODID:-//YMCA of Centre County - ECPv6.15.17.1//NONSGML v1.0//EN
CALSCALE:GREGORIAN
METHOD:PUBLISH
X-ORIGINAL-URL:https://www.ymcaofcentrecounty.org
X-WR-CALDESC:Events for YMCA of Centre County
REFRESH-INTERVAL;VALUE=DURATION:PT1H
X-Robots-Tag:noindex
X-PUBLISHED-TTL:PT1H
BEGIN:VTIMEZONE
TZID:America/New_York
BEGIN:DAYLIGHT
TZOFFSETFROM:-0500
TZOFFSETTO:-0400
TZNAME:EDT
DTSTART:20230312T070000
END:DAYLIGHT
BEGIN:STANDARD
TZOFFSETFROM:-0400
TZOFFSETTO:-0500
TZNAME:EST
DTSTART:20231105T060000
END:STANDARD
BEGIN:DAYLIGHT
TZOFFSETFROM:-0500
TZOFFSETTO:-0400
TZNAME:EDT
DTSTART:20240310T070000
END:DAYLIGHT
BEGIN:STANDARD
TZOFFSETFROM:-0400
TZOFFSETTO:-0500
TZNAME:EST
DTSTART:20241103T060000
END:STANDARD
BEGIN:DAYLIGHT
TZOFFSETFROM:-0500
TZOFFSETTO:-0400
TZNAME:EDT
DTSTART:20250309T070000
END:DAYLIGHT
BEGIN:STANDARD
TZOFFSETFROM:-0400
TZOFFSETTO:-0500
TZNAME:EST
DTSTART:20251102T060000
END:STANDARD
END:VTIMEZONE
BEGIN:VEVENT
DTSTART;TZID=America/New_York:20240813T170000
DTEND;TZID=America/New_York:20240813T200000
DTSTAMP:20260421T034316
CREATED:20240730T134347Z
LAST-MODIFIED:20240730T230457Z
UID:25171-1723568400-1723579200@www.ymcaofcentrecounty.org
SUMMARY:Back to School Bash - Bellefonte
DESCRIPTION:Governor’s Park Pavilion – Bellefonte\nMembers are invited to join us for an end of summer party on Tuesday\, August 13 at Governor’s Park Pavilion (by the soccer fields). We’ll enjoy bounce houses\, yard games\, and a potluck dinner at 6 PM (the Y will provide the main dish – bring a side to share). Bring $5 to decorate your own canvas pencil pouch for the start of the school year. \n  \n  \n 
URL:https://www.ymcaofcentrecounty.org/event/end-of-summer-bash-bellefonte/
CATEGORIES:Bellefonte Events,YMCA Events
END:VEVENT
END:VCALENDAR