BEGIN:VCALENDAR
VERSION:2.0
PRODID:-//YMCA of Centre County - ECPv6.15.17.1//NONSGML v1.0//EN
CALSCALE:GREGORIAN
METHOD:PUBLISH
X-ORIGINAL-URL:https://www.ymcaofcentrecounty.org
X-WR-CALDESC:Events for YMCA of Centre County
REFRESH-INTERVAL;VALUE=DURATION:PT1H
X-Robots-Tag:noindex
X-PUBLISHED-TTL:PT1H
BEGIN:VTIMEZONE
TZID:America/New_York
BEGIN:DAYLIGHT
TZOFFSETFROM:-0500
TZOFFSETTO:-0400
TZNAME:EDT
DTSTART:20240310T070000
END:DAYLIGHT
BEGIN:STANDARD
TZOFFSETFROM:-0400
TZOFFSETTO:-0500
TZNAME:EST
DTSTART:20241103T060000
END:STANDARD
BEGIN:DAYLIGHT
TZOFFSETFROM:-0500
TZOFFSETTO:-0400
TZNAME:EDT
DTSTART:20250309T070000
END:DAYLIGHT
BEGIN:STANDARD
TZOFFSETFROM:-0400
TZOFFSETTO:-0500
TZNAME:EST
DTSTART:20251102T060000
END:STANDARD
BEGIN:DAYLIGHT
TZOFFSETFROM:-0500
TZOFFSETTO:-0400
TZNAME:EDT
DTSTART:20260308T070000
END:DAYLIGHT
BEGIN:STANDARD
TZOFFSETFROM:-0400
TZOFFSETTO:-0500
TZNAME:EST
DTSTART:20261101T060000
END:STANDARD
END:VTIMEZONE
BEGIN:VEVENT
DTSTART;TZID=America/New_York:20250202T143000
DTEND;TZID=America/New_York:20250202T170000
DTSTAMP:20260421T201232
CREATED:20250124T190411Z
LAST-MODIFIED:20250124T190411Z
UID:26262-1738506600-1738515600@www.ymcaofcentrecounty.org
SUMMARY:Baseball Clinic - Moshannon Valley
DESCRIPTION:Register now for these baseball clinics hosted by Penn State Athletes. Participants will receive instruction on hitting\, infield\, outfield\, and pitching. They’ll also enjoy special games and prizes. \nAdvance registration is required and can be completed in-person at the front desk or online by clicking the link below. \nSession 1 \nFebruary 2 from 2:30 PM – 3:30 PM \nFor Kids Ages 9-11 \nSession 2 \nFebruary 2 from 4:00 PM – 5:00 PM \nFor Kids Ages 12-14 \nINSTRUCTORS: \n\nDerek Chase\, Senior Infielder\nChase Renner\, Senior Pitcher\n\nCLICK HERE TO REGISTER NOW
URL:https://www.ymcaofcentrecounty.org/event/baseball-clinic-moshannon-valley-2/
CATEGORIES:Moshannon Valley Events,State College Events,YMCA Events
END:VEVENT
END:VCALENDAR