BEGIN:VCALENDAR
VERSION:2.0
PRODID:-//YMCA of Centre County - ECPv6.15.17.1//NONSGML v1.0//EN
CALSCALE:GREGORIAN
METHOD:PUBLISH
X-ORIGINAL-URL:https://www.ymcaofcentrecounty.org
X-WR-CALDESC:Events for YMCA of Centre County
REFRESH-INTERVAL;VALUE=DURATION:PT1H
X-Robots-Tag:noindex
X-PUBLISHED-TTL:PT1H
BEGIN:VTIMEZONE
TZID:America/New_York
BEGIN:DAYLIGHT
TZOFFSETFROM:-0500
TZOFFSETTO:-0400
TZNAME:EDT
DTSTART:20240310T070000
END:DAYLIGHT
BEGIN:STANDARD
TZOFFSETFROM:-0400
TZOFFSETTO:-0500
TZNAME:EST
DTSTART:20241103T060000
END:STANDARD
BEGIN:DAYLIGHT
TZOFFSETFROM:-0500
TZOFFSETTO:-0400
TZNAME:EDT
DTSTART:20250309T070000
END:DAYLIGHT
BEGIN:STANDARD
TZOFFSETFROM:-0400
TZOFFSETTO:-0500
TZNAME:EST
DTSTART:20251102T060000
END:STANDARD
BEGIN:DAYLIGHT
TZOFFSETFROM:-0500
TZOFFSETTO:-0400
TZNAME:EDT
DTSTART:20260308T070000
END:DAYLIGHT
BEGIN:STANDARD
TZOFFSETFROM:-0400
TZOFFSETTO:-0500
TZNAME:EST
DTSTART:20261101T060000
END:STANDARD
END:VTIMEZONE
BEGIN:VEVENT
DTSTART;TZID=America/New_York:20250207T110000
DTEND;TZID=America/New_York:20250207T120000
DTSTAMP:20260421T214949
CREATED:20250129T174536Z
LAST-MODIFIED:20250129T174536Z
UID:26275-1738926000-1738929600@www.ymcaofcentrecounty.org
SUMMARY:Souper Bowl - Bellefonte
DESCRIPTION:Come out and join us for our annual Souper Bowl Challenge! Make a crock pot full of your favorite soup and bring it to the YMCA on February 7 for entry into the challenge – be sure to sign up at the front desk ahead of time if you plan to enter a soup. Members and staff will taste soups on display and vote for their favorite. The winner will receive a prize and recognition on the wall in the lobby. \n 
URL:https://www.ymcaofcentrecounty.org/event/souper-bowl-bellefonte/
CATEGORIES:Bellefonte Events,YMCA Events
END:VEVENT
BEGIN:VEVENT
DTSTART;TZID=America/New_York:20250207T180000
DTEND;TZID=America/New_York:20250207T200000
DTSTAMP:20260421T214949
CREATED:20241219T150828Z
LAST-MODIFIED:20241219T150828Z
UID:25967-1738951200-1738958400@www.ymcaofcentrecounty.org
SUMMARY:Daddy Daughter Dance - Moshannon Valley
DESCRIPTION:Members: $30\nNon-Members: $40 \nTickets include the cost for both father and daughter(s)\, a rose\, and a 5 by 7 photo taken by Two Guys and a Camera. \nCLICK HERE TO REGISTER NOW
URL:https://www.ymcaofcentrecounty.org/event/daddy-daughter-dance-moshannon-valley/
CATEGORIES:State College Events,YMCA Events
END:VEVENT
END:VCALENDAR