BEGIN:VCALENDAR
VERSION:2.0
PRODID:-//YMCA of Centre County - ECPv6.15.17.1//NONSGML v1.0//EN
CALSCALE:GREGORIAN
METHOD:PUBLISH
X-WR-CALNAME:YMCA of Centre County
X-ORIGINAL-URL:https://www.ymcaofcentrecounty.org
X-WR-CALDESC:Events for YMCA of Centre County
REFRESH-INTERVAL;VALUE=DURATION:PT1H
X-Robots-Tag:noindex
X-PUBLISHED-TTL:PT1H
BEGIN:VTIMEZONE
TZID:America/New_York
BEGIN:DAYLIGHT
TZOFFSETFROM:-0500
TZOFFSETTO:-0400
TZNAME:EDT
DTSTART:20240310T070000
END:DAYLIGHT
BEGIN:STANDARD
TZOFFSETFROM:-0400
TZOFFSETTO:-0500
TZNAME:EST
DTSTART:20241103T060000
END:STANDARD
BEGIN:DAYLIGHT
TZOFFSETFROM:-0500
TZOFFSETTO:-0400
TZNAME:EDT
DTSTART:20250309T070000
END:DAYLIGHT
BEGIN:STANDARD
TZOFFSETFROM:-0400
TZOFFSETTO:-0500
TZNAME:EST
DTSTART:20251102T060000
END:STANDARD
BEGIN:DAYLIGHT
TZOFFSETFROM:-0500
TZOFFSETTO:-0400
TZNAME:EDT
DTSTART:20260308T070000
END:DAYLIGHT
BEGIN:STANDARD
TZOFFSETFROM:-0400
TZOFFSETTO:-0500
TZNAME:EST
DTSTART:20261101T060000
END:STANDARD
END:VTIMEZONE
BEGIN:VEVENT
DTSTART;TZID=America/New_York:20250209T130000
DTEND;TZID=America/New_York:20250209T150000
DTSTAMP:20260421T214950
CREATED:20241210T150846Z
LAST-MODIFIED:20241210T150846Z
UID:25927-1739106000-1739113200@www.ymcaofcentrecounty.org
SUMMARY:Daddy Daughter Dance - State College
DESCRIPTION:Wyndham – 310 Elks Club Road\, Boalsburg \nYou are cordially invited to attend the State College YMCA Daddy/Daughter Dance \nCome enjoy a special afternoon of dancing \, crafts\, and sweet treats with a professional DJ. You MUST register in advance by visiting the link below or at the front desk. Spaces are limited and registration must be completed by Tuesday\, February 4. Prices below include cost for parent and daughter(s). \n\nYMCA Members: $30 per family\nNon-Members: $50 per family\n\nCLICK HERE TO REGISTER NOW \n 
URL:https://www.ymcaofcentrecounty.org/event/daddy-daughter-dance-state-college/
CATEGORIES:State College Events,YMCA Events
END:VEVENT
END:VCALENDAR