BEGIN:VCALENDAR
VERSION:2.0
PRODID:-//YMCA of Centre County - ECPv6.15.17.1//NONSGML v1.0//EN
CALSCALE:GREGORIAN
METHOD:PUBLISH
X-WR-CALNAME:YMCA of Centre County
X-ORIGINAL-URL:https://www.ymcaofcentrecounty.org
X-WR-CALDESC:Events for YMCA of Centre County
REFRESH-INTERVAL;VALUE=DURATION:PT1H
X-Robots-Tag:noindex
X-PUBLISHED-TTL:PT1H
BEGIN:VTIMEZONE
TZID:America/New_York
BEGIN:DAYLIGHT
TZOFFSETFROM:-0500
TZOFFSETTO:-0400
TZNAME:EDT
DTSTART:20240310T070000
END:DAYLIGHT
BEGIN:STANDARD
TZOFFSETFROM:-0400
TZOFFSETTO:-0500
TZNAME:EST
DTSTART:20241103T060000
END:STANDARD
BEGIN:DAYLIGHT
TZOFFSETFROM:-0500
TZOFFSETTO:-0400
TZNAME:EDT
DTSTART:20250309T070000
END:DAYLIGHT
BEGIN:STANDARD
TZOFFSETFROM:-0400
TZOFFSETTO:-0500
TZNAME:EST
DTSTART:20251102T060000
END:STANDARD
BEGIN:DAYLIGHT
TZOFFSETFROM:-0500
TZOFFSETTO:-0400
TZNAME:EDT
DTSTART:20260308T070000
END:DAYLIGHT
BEGIN:STANDARD
TZOFFSETFROM:-0400
TZOFFSETTO:-0500
TZNAME:EST
DTSTART:20261101T060000
END:STANDARD
END:VTIMEZONE
BEGIN:VEVENT
DTSTART;VALUE=DATE:20250210
DTEND;VALUE=DATE:20250215
DTSTAMP:20260421T214142
CREATED:20250115T180616Z
LAST-MODIFIED:20250115T180616Z
UID:26179-1739145600-1739577599@www.ymcaofcentrecounty.org
SUMMARY:Valentine's Day Box Competition - Moshannon Valley
DESCRIPTION:$1 = 1 Vote \nDuring the week of February 10\, Moshannon Valley YMCA employees and members will take part in a Valentine’s Day Box Competition. Vote for your favorite box and whoever has the most votes by the end of the week will win a Valentine’s Day themed basket. All proceeds will benefit the Y’s 2024 Annual Giving Campaign. \n 
URL:https://www.ymcaofcentrecounty.org/event/valentines-day-box-competition-moshannon-valley/
CATEGORIES:Moshannon Valley Events,YMCA Events
END:VEVENT
BEGIN:VEVENT
DTSTART;TZID=America/New_York:20250214T173000
DTEND;TZID=America/New_York:20250214T210000
DTSTAMP:20260421T214142
CREATED:20250121T200022Z
LAST-MODIFIED:20250121T200022Z
UID:26230-1739554200-1739566800@www.ymcaofcentrecounty.org
SUMMARY:Valentines Day Kids Night Out - Penns Valley
DESCRIPTION:CLICK HERE TO REGISTER NOW\n\nAges: 5 to 12yrs oldPrice: $20 for members and $30 for non-members\n\nAdvanced Registration is required by February 13th at 12:00PM.\n\nThis special Valentines Day Kids Night Out has extended hours\, giving parents the opportunity to spend time celebrating together. Pizza\, chips\, and drinks will be provided as well as a Valentines Day Craft and a Movie.
URL:https://www.ymcaofcentrecounty.org/event/valentines-day-kids-night-out-penns-valley/
CATEGORIES:Penns Valley Events,YMCA Events
END:VEVENT
BEGIN:VEVENT
DTSTART;TZID=America/New_York:20250214T180000
DTEND;TZID=America/New_York:20250214T200000
DTSTAMP:20260421T214142
CREATED:20250122T175907Z
LAST-MODIFIED:20250122T175907Z
UID:26245-1739556000-1739563200@www.ymcaofcentrecounty.org
SUMMARY:Valentine's Day SPINema - Penns Valley
DESCRIPTION:Experience the friendships\, romances and adventures of a group of high school kids in the 1950s. Welcome to the singing and dancing world of “Grease\,” the most successful movie musical of all time. A wholesome exchange student (Olivia Newton-John) and a leather-clad Danny (John Travolta) have a summer romance\, but will it cross clique lines? \nRuntime: 1h 50m \nRated: PG \nRelease Date: 6/16/1978 \nYMCA Members: $10 \nNon-Members: $25 \nCLICK HERE TO REGISTER NOW
URL:https://www.ymcaofcentrecounty.org/event/valentines-day-spinema-penns-valley/
CATEGORIES:Penns Valley Events,YMCA Events
END:VEVENT
END:VCALENDAR