BEGIN:VCALENDAR
VERSION:2.0
PRODID:-//YMCA of Centre County - ECPv6.15.17.1//NONSGML v1.0//EN
CALSCALE:GREGORIAN
METHOD:PUBLISH
X-ORIGINAL-URL:https://www.ymcaofcentrecounty.org
X-WR-CALDESC:Events for YMCA of Centre County
REFRESH-INTERVAL;VALUE=DURATION:PT1H
X-Robots-Tag:noindex
X-PUBLISHED-TTL:PT1H
BEGIN:VTIMEZONE
TZID:America/New_York
BEGIN:DAYLIGHT
TZOFFSETFROM:-0500
TZOFFSETTO:-0400
TZNAME:EDT
DTSTART:20240310T070000
END:DAYLIGHT
BEGIN:STANDARD
TZOFFSETFROM:-0400
TZOFFSETTO:-0500
TZNAME:EST
DTSTART:20241103T060000
END:STANDARD
BEGIN:DAYLIGHT
TZOFFSETFROM:-0500
TZOFFSETTO:-0400
TZNAME:EDT
DTSTART:20250309T070000
END:DAYLIGHT
BEGIN:STANDARD
TZOFFSETFROM:-0400
TZOFFSETTO:-0500
TZNAME:EST
DTSTART:20251102T060000
END:STANDARD
BEGIN:DAYLIGHT
TZOFFSETFROM:-0500
TZOFFSETTO:-0400
TZNAME:EDT
DTSTART:20260308T070000
END:DAYLIGHT
BEGIN:STANDARD
TZOFFSETFROM:-0400
TZOFFSETTO:-0500
TZNAME:EST
DTSTART:20261101T060000
END:STANDARD
END:VTIMEZONE
BEGIN:VEVENT
DTSTART;TZID=America/New_York:20250225T090000
DTEND;TZID=America/New_York:20250225T121500
DTSTAMP:20260421T215001
CREATED:20250112T153453Z
LAST-MODIFIED:20250131T170947Z
UID:25070-1740474000-1740485700@www.ymcaofcentrecounty.org
SUMMARY:Chair Massage - State College
DESCRIPTION:Revive Modern Massage\nLicensed Massage Therapist\, Dawn Wright\, CBCS MSG 002724\n$20.00 for 15 minutes \nCLICK HERE TO REGISTER NOW \nSign up at the Member Services Desk or by clicking the link above. Please note that you must pay by cash or check the day of the massage! Contact Cindy Lupton at clupton@ymcaocc.org or (814) 237-7717 with any questions.
URL:https://www.ymcaofcentrecounty.org/event/chair-massage-state-college-2/
CATEGORIES:State College Events,YMCA Events
END:VEVENT
END:VCALENDAR