BEGIN:VCALENDAR
VERSION:2.0
PRODID:-//YMCA of Centre County - ECPv6.15.17.1//NONSGML v1.0//EN
CALSCALE:GREGORIAN
METHOD:PUBLISH
X-ORIGINAL-URL:https://www.ymcaofcentrecounty.org
X-WR-CALDESC:Events for YMCA of Centre County
REFRESH-INTERVAL;VALUE=DURATION:PT1H
X-Robots-Tag:noindex
X-PUBLISHED-TTL:PT1H
BEGIN:VTIMEZONE
TZID:America/New_York
BEGIN:DAYLIGHT
TZOFFSETFROM:-0500
TZOFFSETTO:-0400
TZNAME:EDT
DTSTART:20240310T070000
END:DAYLIGHT
BEGIN:STANDARD
TZOFFSETFROM:-0400
TZOFFSETTO:-0500
TZNAME:EST
DTSTART:20241103T060000
END:STANDARD
BEGIN:DAYLIGHT
TZOFFSETFROM:-0500
TZOFFSETTO:-0400
TZNAME:EDT
DTSTART:20250309T070000
END:DAYLIGHT
BEGIN:STANDARD
TZOFFSETFROM:-0400
TZOFFSETTO:-0500
TZNAME:EST
DTSTART:20251102T060000
END:STANDARD
BEGIN:DAYLIGHT
TZOFFSETFROM:-0500
TZOFFSETTO:-0400
TZNAME:EDT
DTSTART:20260308T070000
END:DAYLIGHT
BEGIN:STANDARD
TZOFFSETFROM:-0400
TZOFFSETTO:-0500
TZNAME:EST
DTSTART:20261101T060000
END:STANDARD
END:VTIMEZONE
BEGIN:VEVENT
DTSTART;TZID=America/New_York:20251010T190000
DTEND;TZID=America/New_York:20251010T213000
DTSTAMP:20260423T042752
CREATED:20250722T153315Z
LAST-MODIFIED:20250722T153315Z
UID:27387-1760122800-1760131800@www.ymcaofcentrecounty.org
SUMMARY:Halloween Movie Night - Moshannon Valley
DESCRIPTION:FEATURING: HALLOWEENTOWN \n$5.00 Admission (Kids under 5 FREE) \nJoin us for a magical movie night as we watch the Halloween classic Halloweentown! It’s a fun\, family-friendly film that’s perfect for getting into the spooky spirit. \nConcessions will be available for purchase – enjoy popcorn\, drinks\, and Halloween treats! Bleacher seating is available\, but we encourage you to bring a blanket or comfy chair to relax and enjoy the show. \nFor more information\, contact Sydney White at swhite@ymcaocc.org. \n 
URL:https://www.ymcaofcentrecounty.org/event/halloween-movie-night-moshannon-valley/
CATEGORIES:Moshannon Valley Events,YMCA Events
END:VEVENT
END:VCALENDAR