BEGIN:VCALENDAR
VERSION:2.0
PRODID:-//YMCA of Centre County - ECPv6.15.17.1//NONSGML v1.0//EN
CALSCALE:GREGORIAN
METHOD:PUBLISH
X-ORIGINAL-URL:https://www.ymcaofcentrecounty.org
X-WR-CALDESC:Events for YMCA of Centre County
REFRESH-INTERVAL;VALUE=DURATION:PT1H
X-Robots-Tag:noindex
X-PUBLISHED-TTL:PT1H
BEGIN:VTIMEZONE
TZID:America/New_York
BEGIN:DAYLIGHT
TZOFFSETFROM:-0500
TZOFFSETTO:-0400
TZNAME:EDT
DTSTART:20240310T070000
END:DAYLIGHT
BEGIN:STANDARD
TZOFFSETFROM:-0400
TZOFFSETTO:-0500
TZNAME:EST
DTSTART:20241103T060000
END:STANDARD
BEGIN:DAYLIGHT
TZOFFSETFROM:-0500
TZOFFSETTO:-0400
TZNAME:EDT
DTSTART:20250309T070000
END:DAYLIGHT
BEGIN:STANDARD
TZOFFSETFROM:-0400
TZOFFSETTO:-0500
TZNAME:EST
DTSTART:20251102T060000
END:STANDARD
BEGIN:DAYLIGHT
TZOFFSETFROM:-0500
TZOFFSETTO:-0400
TZNAME:EDT
DTSTART:20260308T070000
END:DAYLIGHT
BEGIN:STANDARD
TZOFFSETFROM:-0400
TZOFFSETTO:-0500
TZNAME:EST
DTSTART:20261101T060000
END:STANDARD
END:VTIMEZONE
BEGIN:VEVENT
DTSTART;TZID=America/New_York:20251023T091500
DTEND;TZID=America/New_York:20251023T131500
DTSTAMP:20260423T042752
CREATED:20250729T144909Z
LAST-MODIFIED:20250729T144909Z
UID:27418-1761210900-1761225300@www.ymcaofcentrecounty.org
SUMMARY:Chair Massage - State College
DESCRIPTION:Licensed Massage Therapist\, Samantha Bases\, MSG008588\n\n\n$20.00 for 15 minutes – CLICK HERE TO REGISTER NOW\n\nSign up at the Member Services Desk or online. Please note that you must pay by CASH ONLY the day of the massage! Contact Cindy Lupton at clupton@ymcaocc.org or (814) 237-7717 with any questions.
URL:https://www.ymcaofcentrecounty.org/event/chair-massage-state-college-9/
CATEGORIES:State College Events,YMCA Events
END:VEVENT
BEGIN:VEVENT
DTSTART;TZID=America/New_York:20251023T110000
DTEND;TZID=America/New_York:20251023T130000
DTSTAMP:20260423T042752
CREATED:20250722T153153Z
LAST-MODIFIED:20250722T153153Z
UID:27384-1761217200-1761224400@www.ymcaofcentrecounty.org
SUMMARY:Spooky Senior Luncheon - Moshannon Valley
DESCRIPTION:FREE! \nJoin us for a frightfully fun afternoon filled with food\, friends\, and festive Halloween spirit! Come dressed in your favorite costume (optional\, but encouraged!) and enjoy a delicious lunch and good company! \nBring a friend\, and your appetite\, for this spooktacular senior celebration! For more information\, contact Sydney White at swhite@ymcaocc.org. \n 
URL:https://www.ymcaofcentrecounty.org/event/spooky-senior-luncheon-moshannon-valley/
CATEGORIES:Moshannon Valley Events,YMCA Events
END:VEVENT
END:VCALENDAR